BEGIN:VCALENDAR
PRODID:-//vf-auc10782//EN
VERSION:2.0
BEGIN:VEVENT
SUMMARY:Vernon Fox Auctions: Discounted Consumer Goods to include Jewellery &amp; Fashion Accessories, Cosmetics, Homewares, Men&#39;s &amp; Women&#39;s Fashions, Technology and more!
PRIORITY:0
CLASS:PUBLIC
DTSTART:20260430T090000Z
DTEND:20260514T144700Z
DESCRIPTION:
X-ALT-DESC;FMTTYPE=text/html:
LOCATION:Benham House, North Close, Shorncliffe Industrial Estate, Folkestone, Kent, CT20 3UH, United Kingdom
END:VEVENT
END:VCALENDAR