BEGIN:VCALENDAR
PRODID:-//vf-auc10781//EN
VERSION:2.0
BEGIN:VEVENT
SUMMARY:Vernon Fox Auctions: Consumer Goods to include Cosmetics, Technology, Homewares, Fashions and more!
PRIORITY:0
CLASS:PUBLIC
DTSTART:20260429T090000Z
DTEND:20260513T150550Z
DESCRIPTION:
X-ALT-DESC;FMTTYPE=text/html:
LOCATION:52 Presley Way, Crownhill, Milton Keynes, Buckinghamshire, MK8 0ES, United Kingdom
END:VEVENT
END:VCALENDAR