BEGIN:VCALENDAR
PRODID:-//vf-auc10779//EN
VERSION:2.0
BEGIN:VEVENT
SUMMARY:Vernon Fox Auctions: Discounted Consumer Goods to include Books, Fashions, Technology, Jewellery, Sports Equipment and more. Many items starting at just &#163;5!
PRIORITY:0
CLASS:PUBLIC
DTSTART:20260423T090000Z
DTEND:20260507T145540Z
DESCRIPTION:
X-ALT-DESC;FMTTYPE=text/html:
LOCATION:Benham House, North Close, Shorncliffe Industrial Estate, Folkestone, Kent, CT20 3UH, United Kingdom
END:VEVENT
END:VCALENDAR