BEGIN:VCALENDAR
PRODID:-//vf-auc10778//EN
VERSION:2.0
BEGIN:VEVENT
SUMMARY:Vernon Fox Auctions: Discounted Consumer Goods to include Technology, Homewares, Fashions, Footwear, Sunglasses and more!
PRIORITY:0
CLASS:PUBLIC
DTSTART:20260422T090000Z
DTEND:20260506T144000Z
DESCRIPTION:
X-ALT-DESC;FMTTYPE=text/html:
LOCATION:52 Presley Way, Crownhill, Milton Keynes, Buckinghamshire, MK8 0ES, United Kingdom
END:VEVENT
END:VCALENDAR