BEGIN:VCALENDAR
PRODID:-//vf-auc10776//EN
VERSION:2.0
BEGIN:VEVENT
SUMMARY:Vernon Fox Auctions: Consumer Goods to include Cosmetics, Jewellery and Fashion Accessories, Clothing, Tools, Books and more!
PRIORITY:0
CLASS:PUBLIC
DTSTART:20260420T130000Z
DTEND:20260430T145230Z
DESCRIPTION:
X-ALT-DESC;FMTTYPE=text/html:
LOCATION:Benham House, North Close, Shorncliffe Industrial Estate, Folkestone, Kent, CT20 3UH, United Kingdom
END:VEVENT
END:VCALENDAR