BEGIN:VCALENDAR
PRODID:-//vf-auc10774//EN
VERSION:2.0
BEGIN:VEVENT
SUMMARY:Vernon Fox Auctions: A huge sale of Consumer Goods to include Technology, Homewares, Cosmetics, Trainers, Bags, Clothing and more!
PRIORITY:0
CLASS:PUBLIC
DTSTART:20260413T150000Z
DTEND:20260427T143240Z
DESCRIPTION:
X-ALT-DESC;FMTTYPE=text/html:
LOCATION:52 Presley Way, Crownhill, Milton Keynes, Buckinghamshire, MK8 0ES, United Kingdom
END:VEVENT
END:VCALENDAR