BEGIN:VCALENDAR
PRODID:-//vf-auc10773//EN
VERSION:2.0
BEGIN:VEVENT
SUMMARY:Vernon Fox Auctions: A Curated Collection of Men&#39;s and Women&#39;s Fashions with Low Start Prices!
PRIORITY:0
CLASS:PUBLIC
DTSTART:20260414T081500Z
DTEND:20260423T134300Z
DESCRIPTION:
X-ALT-DESC;FMTTYPE=text/html:
LOCATION:Benham House, North Close, Shorncliffe Industrial Estate, Folkestone, Kent, CT20 3UH, United Kingdom
END:VEVENT
END:VCALENDAR