BEGIN:VCALENDAR
PRODID:-//vf-auc10772//EN
VERSION:2.0
BEGIN:VEVENT
SUMMARY:Vernon Fox Auctions: A wide range of Consumer Goods to include Homewares, Technology, Sportswear, Cosmetics, Fashions more!
PRIORITY:0
CLASS:PUBLIC
DTSTART:20260409T120000Z
DTEND:20260422T145910Z
DESCRIPTION:
X-ALT-DESC;FMTTYPE=text/html:
LOCATION:52 Presley Way, Crownhill, Milton Keynes, Buckinghamshire, MK8 0ES, United Kingdom
END:VEVENT
END:VCALENDAR